Package: MethPed Version: 1.35.0 Command: /Library/Frameworks/R.framework/Resources/bin/R CMD INSTALL MethPed StartedAt: 2025-02-19 15:19:28 -0500 (Wed, 19 Feb 2025) EndedAt: 2025-02-19 15:19:31 -0500 (Wed, 19 Feb 2025) EllapsedTime: 3.1 seconds RetCode: 0 Status: OK