Package: MethPed
Version: 1.35.0
Command: /Library/Frameworks/R.framework/Resources/bin/R CMD check --install=check:MethPed.install-out.txt --library=/Library/Frameworks/R.framework/Resources/library --no-vignettes --timings MethPed_1.35.0.tar.gz
StartedAt: 2025-02-19 20:08:32 -0500 (Wed, 19 Feb 2025)
EndedAt: 2025-02-19 20:10:01 -0500 (Wed, 19 Feb 2025)
EllapsedTime: 89.0 seconds
RetCode: 0
Status: OK
CheckDir: MethPed.Rcheck
Warnings: 0