Package: MetaNeighbor
Version: 1.27.0
Maintainer: Stephan Fischer
MaintainerEmail: fischer at cshl.edu
git_url: https://git.bioconductor.org/packages/MetaNeighbor
git_branch: devel
git_last_commit: 7dda94c
git_last_commit_date: 2024-10-29 10:24:31 -0500 (Tue, 29 Oct 2024)