Package: MetCirc Version: 1.37.0 Command: E:\biocbuild\bbs-3.21-bioc\R\bin\R.exe CMD INSTALL MetCirc StartedAt: 2025-01-31 15:40:23 -0500 (Fri, 31 Jan 2025) EndedAt: 2025-01-31 15:40:51 -0500 (Fri, 31 Jan 2025) EllapsedTime: 27.3 seconds RetCode: 0 Status: OK