Package: MetCirc Version: 1.37.0 Command: /home/biocbuild/bbs-3.21-bioc/R/bin/R CMD INSTALL MetCirc StartedAt: 2025-01-31 15:35:49 -0500 (Fri, 31 Jan 2025) EndedAt: 2025-01-31 15:36:02 -0500 (Fri, 31 Jan 2025) EllapsedTime: 12.5 seconds RetCode: 0 Status: OK