Package: MetCirc Version: 1.37.0 Command: /home/biocbuild/bbs-3.21-bioc/R/bin/R CMD build --keep-empty-dirs --no-resave-data MetCirc StartedAt: 2025-01-31 18:03:30 -0500 (Fri, 31 Jan 2025) EndedAt: 2025-01-31 18:04:32 -0500 (Fri, 31 Jan 2025) EllapsedTime: 62.1 seconds RetCode: 0 Status: OK PackageFile: MetCirc_1.37.0.tar.gz PackageFileSize: 2.068 MiB