Package: MetCirc Version: 1.37.0 Maintainer: Thomas Naake MaintainerEmail: thomasnaake at googlemail.com git_url: https://git.bioconductor.org/packages/MetCirc git_branch: devel git_last_commit: 9687bdf git_last_commit_date: 2024-10-30 04:34:21 -0500 (Wed, 30 Oct 2024)