Package: Macarron Version: 1.11.0 Command: E:\biocbuild\bbs-3.21-bioc\R\bin\R.exe CMD check --no-multiarch --install=check:Macarron.install-out.txt --library=E:\biocbuild\bbs-3.21-bioc\R\library --no-vignettes --timings Macarron_1.11.0.tar.gz StartedAt: 2025-02-05 02:55:33 -0500 (Wed, 05 Feb 2025) EndedAt: 2025-02-05 03:11:01 -0500 (Wed, 05 Feb 2025) EllapsedTime: 928.6 seconds RetCode: 1 Status: ERROR CheckDir: Macarron.Rcheck Warnings: NA