##############################################################################
##############################################################################
###
### Running command:
###
###   rm -rf Macarron.buildbin-libdir && mkdir Macarron.buildbin-libdir && E:\biocbuild\bbs-3.21-bioc\R\bin\R.exe CMD INSTALL --build --library=Macarron.buildbin-libdir Macarron_1.11.0.tar.gz
###
##############################################################################
##############################################################################


* installing *source* package 'Macarron' ...
** this is package 'Macarron' version '1.11.0'
** using staged installation
** R
** inst
** byte-compile and prepare package for lazy loading
** help
*** installing help indices
** building package indices
** installing vignettes
** testing if installed package can be loaded from temporary location
** testing if installed package can be loaded from final location
** testing if installed package keeps a record of temporary installation path
* MD5 sums
packaged installation of 'Macarron' as Macarron_1.11.0.zip
* DONE (Macarron)