Package: Macarron Version: 1.11.0 Command: /Library/Frameworks/R.framework/Resources/bin/R CMD check --install=check:Macarron.install-out.txt --library=/Library/Frameworks/R.framework/Resources/library --no-vignettes --timings Macarron_1.11.0.tar.gz StartedAt: 2025-02-04 21:22:30 -0500 (Tue, 04 Feb 2025) EndedAt: 2025-02-04 21:36:17 -0500 (Tue, 04 Feb 2025) EllapsedTime: 826.5 seconds RetCode: 1 Status: ERROR CheckDir: Macarron.Rcheck Warnings: NA