Package: MWASTools
Version: 1.31.0
Command: E:\biocbuild\bbs-3.21-bioc\R\bin\R.exe CMD check --no-multiarch --install=check:MWASTools.install-out.txt --library=E:\biocbuild\bbs-3.21-bioc\R\library --no-vignettes --timings MWASTools_1.31.0.tar.gz
StartedAt: 2025-02-20 03:31:34 -0500 (Thu, 20 Feb 2025)
EndedAt: 2025-02-20 03:36:04 -0500 (Thu, 20 Feb 2025)
EllapsedTime: 270.1 seconds
RetCode: 0
Status: OK
CheckDir: MWASTools.Rcheck
Warnings: 0