Package: MWASTools Version: 1.31.0 Command: chmod a+r MWASTools -R && E:\biocbuild\bbs-3.21-bioc\R\bin\R.exe CMD build --keep-empty-dirs --no-resave-data MWASTools StartedAt: 2025-02-19 20:17:25 -0500 (Wed, 19 Feb 2025) EndedAt: 2025-02-19 20:19:13 -0500 (Wed, 19 Feb 2025) EllapsedTime: 108.6 seconds RetCode: 0 Status: OK PackageFile: MWASTools_1.31.0.tar.gz PackageFileSize: 1.7 <A href="http://en.wikipedia.org/wiki/MiB" target="_blank">MiB</A>