Package: MWASTools
Version: 1.31.0
Command: /home/biocbuild/bbs-3.21-bioc/R/bin/R CMD INSTALL MWASTools
StartedAt: 2025-02-19 15:24:24 -0500 (Wed, 19 Feb 2025)
EndedAt: 2025-02-19 15:24:54 -0500 (Wed, 19 Feb 2025)
EllapsedTime: 29.7 seconds
RetCode: 0
Status: OK