Package: MWASTools
Version: 1.31.0
Command: /home/biocbuild/bbs-3.21-bioc/R/bin/R CMD check --install=check:MWASTools.install-out.txt --library=/home/biocbuild/bbs-3.21-bioc/R/site-library --timings MWASTools_1.31.0.tar.gz
StartedAt: 2025-02-20 00:34:10 -0500 (Thu, 20 Feb 2025)
EndedAt: 2025-02-20 00:38:31 -0500 (Thu, 20 Feb 2025)
EllapsedTime: 260.6 seconds
RetCode: 0
Status: OK
CheckDir: MWASTools.Rcheck
Warnings: 0