Package: MWASTools Version: 1.31.0 Command: /home/biocbuild/bbs-3.21-bioc/R/bin/R CMD build --keep-empty-dirs --no-resave-data MWASTools StartedAt: 2025-02-19 18:19:50 -0500 (Wed, 19 Feb 2025) EndedAt: 2025-02-19 18:20:55 -0500 (Wed, 19 Feb 2025) EllapsedTime: 65.1 seconds RetCode: 0 Status: OK PackageFile: MWASTools_1.31.0.tar.gz PackageFileSize: 2.651 <A href="http://en.wikipedia.org/wiki/MiB" target="_blank">MiB</A>