Package: MWASTools Version: 1.31.0 Command: /Library/Frameworks/R.framework/Resources/bin/R CMD INSTALL MWASTools StartedAt: 2025-02-04 15:32:34 -0500 (Tue, 04 Feb 2025) EndedAt: 2025-02-04 15:33:15 -0500 (Tue, 04 Feb 2025) EllapsedTime: 41.4 seconds RetCode: 0 Status: OK