Package: MWASTools Version: 1.31.0 Command: /Library/Frameworks/R.framework/Resources/bin/R CMD check --install=check:MWASTools.install-out.txt --library=/Library/Frameworks/R.framework/Resources/library --no-vignettes --timings MWASTools_1.31.0.tar.gz StartedAt: 2025-02-04 21:59:52 -0500 (Tue, 04 Feb 2025) EndedAt: 2025-02-04 22:04:10 -0500 (Tue, 04 Feb 2025) EllapsedTime: 257.2 seconds RetCode: 0 Status: OK CheckDir: MWASTools.Rcheck Warnings: 0