Package: MWASTools Version: 1.31.0 Command: /Library/Frameworks/R.framework/Resources/bin/R CMD build --keep-empty-dirs --no-resave-data MWASTools StartedAt: 2025-02-04 17:36:18 -0500 (Tue, 04 Feb 2025) EndedAt: 2025-02-04 17:37:29 -0500 (Tue, 04 Feb 2025) EllapsedTime: 71.8 seconds RetCode: 0 Status: OK PackageFile: MWASTools_1.31.0.tar.gz PackageFileSize: 2.106 MiB