Package: MVCClass Version: 1.81.0 Command: rm -rf MVCClass.buildbin-libdir && mkdir MVCClass.buildbin-libdir && E:\biocbuild\bbs-3.21-bioc\R\bin\R.exe CMD INSTALL --build --library=MVCClass.buildbin-libdir MVCClass_1.81.0.tar.gz StartedAt: 2025-02-05 08:27:30 -0500 (Wed, 05 Feb 2025) EndedAt: 2025-02-05 08:28:19 -0500 (Wed, 05 Feb 2025) EllapsedTime: 48.6 seconds RetCode: 0 Status: OK PackageFile: MVCClass_1.81.0.zip PackageFileSize: 1.233 MiB