Package: MVCClass
Version: 1.81.0
Command: /home/biocbuild/bbs-3.21-bioc/R/bin/R CMD build --keep-empty-dirs --no-resave-data MVCClass
StartedAt: 2025-02-16 18:17:07 -0500 (Sun, 16 Feb 2025)
EndedAt: 2025-02-16 18:17:13 -0500 (Sun, 16 Feb 2025)
EllapsedTime: 6.0 seconds
RetCode: 0
Status: OK
PackageFile: MVCClass_1.81.0.tar.gz
PackageFileSize: 1.031 <A href="http://en.wikipedia.org/wiki/MiB" target="_blank">MiB</A>