Package: MVCClass Version: 1.81.0 Command: /home/biocbuild/R/R/bin/R CMD INSTALL MVCClass StartedAt: 2025-01-29 19:29:55 -0000 (Wed, 29 Jan 2025) EndedAt: 2025-01-29 19:30:15 -0000 (Wed, 29 Jan 2025) EllapsedTime: 20.5 seconds RetCode: 0 Status: OK