Package: MSstatsQC Version: 2.25.0 Command: E:\biocbuild\bbs-3.21-bioc\R\bin\R.exe CMD check --no-multiarch --install=check:MSstatsQC.install-out.txt --library=E:\biocbuild\bbs-3.21-bioc\R\library --no-vignettes --timings MSstatsQC_2.25.0.tar.gz StartedAt: 2025-02-05 03:48:45 -0500 (Wed, 05 Feb 2025) EndedAt: 2025-02-05 03:54:08 -0500 (Wed, 05 Feb 2025) EllapsedTime: 322.5 seconds RetCode: 0 Status: OK CheckDir: MSstatsQC.Rcheck Warnings: 0