Package: MSnID
Version: 1.41.0
Command: E:\biocbuild\bbs-3.21-bioc\R\bin\R.exe CMD INSTALL MSnID
StartedAt: 2025-02-19 16:27:45 -0500 (Wed, 19 Feb 2025)
EndedAt: 2025-02-19 16:28:58 -0500 (Wed, 19 Feb 2025)
EllapsedTime: 72.8 seconds
RetCode: 0
Status: OK