Package: MSnID Version: 1.41.0 Command: rm -rf MSnID.buildbin-libdir && mkdir MSnID.buildbin-libdir && E:\biocbuild\bbs-3.21-bioc\R\bin\R.exe CMD INSTALL --build --library=MSnID.buildbin-libdir MSnID_1.41.0.tar.gz StartedAt: 2025-02-20 08:16:11 -0500 (Thu, 20 Feb 2025) EndedAt: 2025-02-20 08:17:33 -0500 (Thu, 20 Feb 2025) EllapsedTime: 81.6 seconds RetCode: 0 Status: OK PackageFile: MSnID_1.41.0.zip PackageFileSize: 4.075 <A href="http://en.wikipedia.org/wiki/MiB" target="_blank">MiB</A>