##############################################################################
##############################################################################
###
### Running command:
###
###   rm -rf MSnID.buildbin-libdir && mkdir MSnID.buildbin-libdir && E:\biocbuild\bbs-3.21-bioc\R\bin\R.exe CMD INSTALL --build --library=MSnID.buildbin-libdir MSnID_1.41.0.tar.gz
###
##############################################################################
##############################################################################


* installing *source* package 'MSnID' ...
** this is package 'MSnID' version '1.41.0'
** using staged installation
** R
** data
*** moving datasets to lazyload DB
** demo
** inst
** byte-compile and prepare package for lazy loading
** help
*** installing help indices
** building package indices
** installing vignettes
** testing if installed package can be loaded from temporary location
** testing if installed package can be loaded from final location
** testing if installed package keeps a record of temporary installation path
* MD5 sums
packaged installation of 'MSnID' as MSnID_1.41.0.zip
* DONE (MSnID)