Package: MSnID Version: 1.41.0 Command: /home/biocbuild/bbs-3.21-bioc/R/bin/R CMD INSTALL MSnID StartedAt: 2025-02-19 15:37:05 -0500 (Wed, 19 Feb 2025) EndedAt: 2025-02-19 15:37:49 -0500 (Wed, 19 Feb 2025) EllapsedTime: 44.7 seconds RetCode: 0 Status: OK