Package: MSnID
Version: 1.41.0
Command: /home/biocbuild/bbs-3.21-bioc/R/bin/R CMD check --install=check:MSnID.install-out.txt --library=/home/biocbuild/bbs-3.21-bioc/R/site-library --timings MSnID_1.41.0.tar.gz
StartedAt: 2025-02-20 00:25:39 -0500 (Thu, 20 Feb 2025)
EndedAt: 2025-02-20 00:33:50 -0500 (Thu, 20 Feb 2025)
EllapsedTime: 491.7 seconds
RetCode: 0
Status: OK
CheckDir: MSnID.Rcheck
Warnings: 0