Package: MSnID Version: 1.41.0 Command: /home/biocbuild/bbs-3.21-bioc/R/bin/R CMD build --keep-empty-dirs --no-resave-data MSnID StartedAt: 2025-02-19 18:16:32 -0500 (Wed, 19 Feb 2025) EndedAt: 2025-02-19 18:18:29 -0500 (Wed, 19 Feb 2025) EllapsedTime: 117.1 seconds RetCode: 0 Status: OK PackageFile: MSnID_1.41.0.tar.gz PackageFileSize: 3.003 <A href="http://en.wikipedia.org/wiki/MiB" target="_blank">MiB</A>