Package: MSnID Version: 1.41.0 Command: /Library/Frameworks/R.framework/Resources/bin/R CMD INSTALL MSnID StartedAt: 2025-02-19 15:31:44 -0500 (Wed, 19 Feb 2025) EndedAt: 2025-02-19 15:32:43 -0500 (Wed, 19 Feb 2025) EllapsedTime: 58.6 seconds RetCode: 0 Status: OK