Package: MSnID
Version: 1.41.0
Command: /Library/Frameworks/R.framework/Resources/bin/R CMD check --install=check:MSnID.install-out.txt --library=/Library/Frameworks/R.framework/Resources/library --no-vignettes --timings MSnID_1.41.0.tar.gz
StartedAt: 2025-02-19 21:52:40 -0500 (Wed, 19 Feb 2025)
EndedAt: 2025-02-19 22:00:05 -0500 (Wed, 19 Feb 2025)
EllapsedTime: 445.3 seconds
RetCode: 0
Status: OK
CheckDir: MSnID.Rcheck
Warnings: 0