Package: MSnID Version: 1.41.0 Command: rm -rf MSnID.buildbin-libdir && mkdir MSnID.buildbin-libdir && /Users/biocbuild/BBS/utils/build-universal.sh MSnID_1.41.0.tar.gz /Library/Frameworks/R.framework/Resources/bin/R MSnID.buildbin-libdir StartedAt: 2025-02-20 00:43:11 -0500 (Thu, 20 Feb 2025) EndedAt: 2025-02-20 00:44:13 -0500 (Thu, 20 Feb 2025) EllapsedTime: 62.4 seconds RetCode: 0 Status: OK PackageFile: MSnID_1.41.0.tgz PackageFileSize: 4.099 <A href="http://en.wikipedia.org/wiki/MiB" target="_blank">MiB</A>