##############################################################################
##############################################################################
###
### Running command:
###
###   /home/biocbuild/R/R/bin/R CMD check --install=check:MSnID.install-out.txt --library=/home/biocbuild/R/R/site-library --no-vignettes --timings MSnID_1.41.0.tar.gz
###
##############################################################################
##############################################################################


* using log directory ‘/home/biocbuild/bbs-3.21-bioc/meat/MSnID.Rcheck’
* using R Under development (unstable) (2024-11-24 r87369)
* using platform: aarch64-unknown-linux-gnu
* R was compiled by
    aarch64-unknown-linux-gnu-gcc (GCC) 14.2.0
    GNU Fortran (GCC) 14.2.0
* running under: openEuler 24.03 (LTS)
* using session charset: UTF-8
* using option ‘--no-vignettes’
* checking for file ‘MSnID/DESCRIPTION’ ... OK
* checking extension type ... Package
* this is package ‘MSnID’ version ‘1.41.0’
* checking package namespace information ... OK
* checking package dependencies ... INFO
Imports includes 25 non-default packages.
Importing from so many packages makes the package vulnerable to any of
them becoming unavailable.  Move as many as possible to Suggests and
use conditionally.
* checking if this is a source package ... OK
* checking if there is a namespace ... OK
* checking for hidden files and directories ... OK
* checking for portable file names ... OK
* checking for sufficient/correct file permissions ... OK
* checking whether package ‘MSnID’ can be installed ... OK
* checking installed package size ... OK
* checking package directory ... OK
* checking ‘build’ directory ... OK
* checking DESCRIPTION meta-information ... OK
* checking top-level files ... OK
* checking for left-over files ... OK
* checking index information ... OK
* checking package subdirectories ... OK
* checking code files for non-ASCII characters ... OK
* checking R files for syntax errors ... OK
* checking whether the package can be loaded ... OK
* checking whether the package can be loaded with stated dependencies ... OK
* checking whether the package can be unloaded cleanly ... OK
* checking whether the namespace can be loaded with stated dependencies ... OK
* checking whether the namespace can be unloaded cleanly ... OK
* checking loading without being on the library search path ... OK
* checking dependencies in R code ... NOTE
Namespaces in Imports field not imported from:
  ‘BiocGenerics’ ‘BiocStyle’ ‘RUnit’ ‘ggplot2’ ‘msmsTests’ ‘xtable’
  All declared Imports should be used.
* checking S3 generic/method consistency ... OK
* checking replacement functions ... OK
* checking foreign function calls ... OK
* checking R code for possible problems ... NOTE
.read_mzIDs.mzR.engine.single.file: no visible binding for global
  variable ‘peptideRef’
Undefined global functions or variables:
  peptideRef
* checking Rd files ... OK
* checking Rd metadata ... OK
* checking Rd cross-references ... NOTE
Found the following Rd file(s) with Rd \link{} targets missing package
anchors:
  MSnID-class.Rd: MSnSet
  MSnID-package.Rd: mzID
Please provide package anchors for all Rd \link{} targets not in the
package itself and the base packages.
* checking for missing documentation entries ... OK
* checking for code/documentation mismatches ... OK
* checking Rd \usage sections ... OK
* checking Rd contents ... OK
* checking for unstated dependencies in examples ... OK
* checking contents of ‘data’ directory ... OK
* checking data for non-ASCII characters ... OK
* checking LazyData ... OK
* checking data for ASCII and uncompressed saves ... OK
* checking files in ‘vignettes’ ... OK
* checking examples ... OK
Examples with CPU (user + system) or elapsed time > 5s
                          user system elapsed
fetch_conversion_table  15.909  0.719  32.049
remap_accessions-method  9.009  0.518  15.648
remap_fasta_entry_names  8.074  0.234  15.690
optimize_filter          4.663  0.094  26.693
* checking for unstated dependencies in ‘tests’ ... OK
* checking tests ...
  Running ‘runTests.R’
 ERROR
Running the tests in ‘tests/runTests.R’ failed.
Last 13 lines of output:
   
  1 Test Suite : 
  MSnID RUnit Tests - 19 test functions, 0 errors, 1 failure
  FAILURE in test_data_load: Error in checkIdentical(psms(msnidObj), psms(msnid2)) : FALSE 
   
  
  Test files with failing tests
  
     test_data_load.R 
       test_data_load 
  
  
  Error in BiocGenerics:::testPackage("MSnID") : 
    unit tests failed for package MSnID
  Execution halted
* checking for unstated dependencies in vignettes ... OK
* checking package vignettes ... OK
* checking running R code from vignettes ... SKIPPED
* checking re-building of vignette outputs ... SKIPPED
* checking PDF version of manual ... OK
* DONE

Status: 1 ERROR, 3 NOTEs
See
  ‘/home/biocbuild/bbs-3.21-bioc/meat/MSnID.Rcheck/00check.log’
for details.