Package: MSnID
Version: 1.41.0
Command: /home/biocbuild/R/R/bin/R CMD build --keep-empty-dirs --no-resave-data MSnID
StartedAt: 2025-01-29 00:40:03 -0000 (Wed, 29 Jan 2025)
EndedAt: 2025-01-29 00:42:42 -0000 (Wed, 29 Jan 2025)
EllapsedTime: 159.1 seconds
RetCode: 0
Status: OK
PackageFile: MSnID_1.41.0.tar.gz
PackageFileSize: 2.971 <A href="http://en.wikipedia.org/wiki/MiB" target="_blank">MiB</A>