Package: MSA2dist Version: 1.11.1 Command: E:\biocbuild\bbs-3.21-bioc\R\bin\R.exe CMD INSTALL MSA2dist StartedAt: 2025-02-19 15:55:07 -0500 (Wed, 19 Feb 2025) EndedAt: 2025-02-19 15:56:44 -0500 (Wed, 19 Feb 2025) EllapsedTime: 97.2 seconds RetCode: 0 Status: OK