Package: MSA2dist Version: 1.11.1 Command: rm -rf MSA2dist.buildbin-libdir && mkdir MSA2dist.buildbin-libdir && E:\biocbuild\bbs-3.21-bioc\R\bin\R.exe CMD INSTALL --build --library=MSA2dist.buildbin-libdir MSA2dist_1.11.1.tar.gz StartedAt: 2025-02-20 08:15:23 -0500 (Thu, 20 Feb 2025) EndedAt: 2025-02-20 08:16:57 -0500 (Thu, 20 Feb 2025) EllapsedTime: 93.6 seconds RetCode: 0 Status: OK PackageFile: MSA2dist_1.11.1.zip PackageFileSize: 1.274 <A href="http://en.wikipedia.org/wiki/MiB" target="_blank">MiB</A>