Package: MSA2dist
Version: 1.11.1
Command: /home/biocbuild/bbs-3.21-bioc/R/bin/R CMD INSTALL MSA2dist
StartedAt: 2025-02-19 15:48:55 -0500 (Wed, 19 Feb 2025)
EndedAt: 2025-02-19 15:50:01 -0500 (Wed, 19 Feb 2025)
EllapsedTime: 65.2 seconds
RetCode: 0
Status: OK