Package: MSA2dist
Version: 1.11.1
Command: /home/biocbuild/bbs-3.21-bioc/R/bin/R CMD check --install=check:MSA2dist.install-out.txt --library=/home/biocbuild/bbs-3.21-bioc/R/site-library --timings MSA2dist_1.11.1.tar.gz
StartedAt: 2025-02-20 00:21:42 -0500 (Thu, 20 Feb 2025)
EndedAt: 2025-02-20 00:25:45 -0500 (Thu, 20 Feb 2025)
EllapsedTime: 242.4 seconds
RetCode: 0
Status: OK
CheckDir: MSA2dist.Rcheck
Warnings: 0