Package: MSA2dist Version: 1.11.1 Command: /home/biocbuild/bbs-3.21-bioc/R/bin/R CMD build --keep-empty-dirs --no-resave-data MSA2dist StartedAt: 2025-02-19 18:14:47 -0500 (Wed, 19 Feb 2025) EndedAt: 2025-02-19 18:16:15 -0500 (Wed, 19 Feb 2025) EllapsedTime: 88.1 seconds RetCode: 0 Status: OK PackageFile: MSA2dist_1.11.1.tar.gz PackageFileSize: 978.5 <A href="http://en.wikipedia.org/wiki/KiB" target="_blank">KiB</A>