Package: MSA2dist
Version: 1.11.1
Command: /home/biocbuild/R/R/bin/R CMD INSTALL MSA2dist
StartedAt: 2025-01-29 19:58:50 -0000 (Wed, 29 Jan 2025)
EndedAt: 2025-01-29 20:00:52 -0000 (Wed, 29 Jan 2025)
EllapsedTime: 122.1 seconds
RetCode: 0
Status: OK