Package: MSA2dist
Version: 1.11.1
Command: /home/biocbuild/R/R/bin/R CMD check --install=check:MSA2dist.install-out.txt --library=/home/biocbuild/R/R/site-library --no-vignettes --timings MSA2dist_1.11.1.tar.gz
StartedAt: 2025-01-28 12:50:08 -0000 (Tue, 28 Jan 2025)
EndedAt: 2025-01-28 12:55:35 -0000 (Tue, 28 Jan 2025)
EllapsedTime: 327.5 seconds
RetCode: 0
Status: OK
CheckDir: MSA2dist.Rcheck
Warnings: 0