Package: MSA2dist
Version: 1.11.1
Command: /home/biocbuild/R/R/bin/R CMD build --keep-empty-dirs --no-resave-data MSA2dist
StartedAt: 2025-01-29 00:37:34 -0000 (Wed, 29 Jan 2025)
EndedAt: 2025-01-29 00:39:56 -0000 (Wed, 29 Jan 2025)
EllapsedTime: 142.1 seconds
RetCode: 0
Status: OK
PackageFile: MSA2dist_1.11.1.tar.gz
PackageFileSize: 805.4 <A href="http://en.wikipedia.org/wiki/KiB" target="_blank">KiB</A>