##############################################################################
##############################################################################
###
### Running command:
###
###   /home/biocbuild/R/R/bin/R CMD build --keep-empty-dirs --no-resave-data MSA2dist
###
##############################################################################
##############################################################################


* checking for file ‘MSA2dist/DESCRIPTION’ ... OK
* preparing ‘MSA2dist’:
* checking DESCRIPTION meta-information ... OK
* cleaning src
* installing the package to build vignettes
* creating vignettes ... OK
* cleaning src
* checking for LF line-endings in source and make files and shell scripts
* checking for empty or unneeded directories
* looking to see if a ‘data/datalist’ file should be added
* building ‘MSA2dist_1.11.1.tar.gz’