Package: MSA2dist
Version: 1.11.1
Command: /Library/Frameworks/R.framework/Resources/bin/R CMD check --install=check:MSA2dist.install-out.txt --library=/Library/Frameworks/R.framework/Resources/library --no-vignettes --timings MSA2dist_1.11.1.tar.gz
StartedAt: 2025-02-19 20:23:22 -0500 (Wed, 19 Feb 2025)
EndedAt: 2025-02-19 20:24:48 -0500 (Wed, 19 Feb 2025)
EllapsedTime: 86.1 seconds
RetCode: 0
Status: OK
CheckDir: MSA2dist.Rcheck
Warnings: 0