Package: MSA2dist Version: 1.11.1 Command: /Library/Frameworks/R.framework/Resources/bin/R CMD build --keep-empty-dirs --no-resave-data MSA2dist StartedAt: 2025-02-19 17:03:22 -0500 (Wed, 19 Feb 2025) EndedAt: 2025-02-19 17:03:50 -0500 (Wed, 19 Feb 2025) EllapsedTime: 28.3 seconds RetCode: 0 Status: OK PackageFile: MSA2dist_1.11.1.tar.gz PackageFileSize: 878.7 <A href="http://en.wikipedia.org/wiki/KiB" target="_blank">KiB</A>