Package: MSA2dist
Version: 1.11.1
Command: rm -rf MSA2dist.buildbin-libdir && mkdir MSA2dist.buildbin-libdir && /Users/biocbuild/BBS/utils/build-universal.sh MSA2dist_1.11.1.tar.gz /Library/Frameworks/R.framework/Resources/bin/R MSA2dist.buildbin-libdir
StartedAt: 2025-02-19 22:30:00 -0500 (Wed, 19 Feb 2025)
EndedAt: 2025-02-19 22:30:22 -0500 (Wed, 19 Feb 2025)
EllapsedTime: 22.4 seconds
RetCode: 0
Status: OK
PackageFile: MSA2dist_1.11.1.tgz
PackageFileSize: 1.141 <A href="http://en.wikipedia.org/wiki/MiB" target="_blank">MiB</A>