Package: MPFE Version: 1.43.0 Command: E:\biocbuild\bbs-3.21-bioc\R\bin\R.exe CMD INSTALL MPFE StartedAt: 2025-02-19 15:20:08 -0500 (Wed, 19 Feb 2025) EndedAt: 2025-02-19 15:20:12 -0500 (Wed, 19 Feb 2025) EllapsedTime: 4.6 seconds RetCode: 0 Status: OK