Package: MPFE
Version: 1.43.0
Command: E:\biocbuild\bbs-3.21-bioc\R\bin\R.exe CMD check --no-multiarch --install=check:MPFE.install-out.txt --library=E:\biocbuild\bbs-3.21-bioc\R\library --no-vignettes --timings MPFE_1.43.0.tar.gz
StartedAt: 2025-02-20 03:14:23 -0500 (Thu, 20 Feb 2025)
EndedAt: 2025-02-20 03:14:50 -0500 (Thu, 20 Feb 2025)
EllapsedTime: 27.0 seconds
RetCode: 0
Status: OK
CheckDir: MPFE.Rcheck
Warnings: 0