Package: MPFE
Version: 1.43.0
Command: chmod a+r MPFE -R && E:\biocbuild\bbs-3.21-bioc\R\bin\R.exe CMD build --keep-empty-dirs --no-resave-data MPFE
StartedAt: 2025-02-19 20:07:31 -0500 (Wed, 19 Feb 2025)
EndedAt: 2025-02-19 20:07:40 -0500 (Wed, 19 Feb 2025)
EllapsedTime: 8.9 seconds
RetCode: 0
Status: OK
PackageFile: MPFE_1.43.0.tar.gz
PackageFileSize: 103 <A href="http://en.wikipedia.org/wiki/KiB" target="_blank">KiB</A>