Package: MIRit Version: 1.3.0 Command: /home/biocbuild/bbs-3.21-bioc/R/bin/R CMD INSTALL MIRit StartedAt: 2025-01-31 16:00:15 -0500 (Fri, 31 Jan 2025) EndedAt: 2025-01-31 16:00:55 -0500 (Fri, 31 Jan 2025) EllapsedTime: 40.7 seconds RetCode: 0 Status: OK