Package: MIRit Version: 1.3.0 Command: /Library/Frameworks/R.framework/Resources/bin/R CMD check --install=check:MIRit.install-out.txt --library=/Library/Frameworks/R.framework/Resources/library --no-vignettes --timings MIRit_1.3.0.tar.gz StartedAt: 2025-01-31 21:31:41 -0500 (Fri, 31 Jan 2025) EndedAt: 2025-01-31 21:36:03 -0500 (Fri, 31 Jan 2025) EllapsedTime: 262.0 seconds RetCode: 0 Status: OK CheckDir: MIRit.Rcheck Warnings: 0